Workbook

Sheet Convidados
D1: Lista de Convidados | F1: Número de convidados | H1: Adultos | I1: =SUM(D:D) -> 9
H2: Crianças | I2: =SUM(E:E) -> 2
F3: Número de confirmados | H3: Adultos | I3: =SUM(F:F) -> 7
H4: Crianças | I4: =SUM(G:G) -> 0
D7: Número de convidados | F7: Confirmados / Cartões de Festa
A8: Nº | B8: Nome no Convite | C8: Origem | D8: Adultos | E8: Crianças | F8: Adultos2 | G8: Crianças2 | H8: Telefone | I8: Endereço | J8: Cidade | K8: Estado | L8: Presente Enviado
A9: 1 | B9: Sr João Alves e Família | C9: Família | D9: 2 | E9: 2 | F9: 2 | H9: 11987654321
A10: =A9+1 -> 2 | B10: Sr. Marcos Souza e Sra. | C10: Amigo Noiva | D10: 2 | H10: 11987654321
A11: =A10+1 -> 3 | B11: À minha querida mãe Suzana Calixto | C11: Família | D11: 1 | F11: 1 | H11: 11987654321 | I11: Rua da Cidade, 123 | J11: São Paulo | K11: SP
A12: =A11+1 -> 4 | B12: Aos queridos padrinhos Alex e Ana | C12: Família | D12: 2 | F12: 2 | H12: 11987654321 | I12: Rua do Estado, 456 | J12: Americana | K12: SP
A13: =A12+1 -> 5 | B13: Juliano Barbosa e Sra. | C13: Trabalho | D13: 2 | F13: 2 | H13: 11987654321
A14: =A13+1 -> 6 | H14: 11987654321
A15: =A14+1 -> 7
A16: =A15+1 -> 8
A17: =A16+1 -> 9
A18: =A17+1 -> 10
A19: =A18+1 -> 11
A20: =A19+1 -> 12
A21: =A20+1 -> 13
A22: =A21+1 -> 14
A23: =A22+1 -> 15
A24: =A23+1 -> 16
A25: =A24+1 -> 17
A26: =A25+1 -> 18
... A38: =A37+1 -> 30
A39: 2
A40: =A39+1 -> 3
A41: =A40+1 -> 4
A42: =A41+1 -> 5
A43: =A42+1 -> 6
A44: =A43+1 -> 7
A45: =A44+1 -> 8
A46: =A45+1 -> 9
A47: =A46+1 -> 10
A48: =A47+1 -> 11
A49: =A48+1 -> 12
A50: =A49+1 -> 13
A51: =A50+1 -> 14
... A68: =A67+1 -> 31
A69: 3
...

Sheet Lista para a Gráfica
A1: Nº | B1: Nome no convite | C1: Cartões de Festa
A2: 1 | B2: =Convidados!B9 -> Sr João Alves e Família | C2: =Convidados!F9+Convidados!G9 -> 2
A3: 2 | B3: =Convidados!B10 -> Sr. Marcos Souza e Sra. | C3: =Convidados!F10+Convidados!G10 -> 0
A4: 3 | B4: =Convidados!B11 -> À minha querida mãe Suzana Calixto | C4: =Convidados!F11+Convidados!G11 -> 1
A5: 4 | B5: =Convidados!B12 -> Aos queridos padrinhos Alex e Ana | C5: =Convidados!F12+Convidados!G12 -> 2
A6: 5 | B6: =Convidados!B13 -> Juliano Barbosa e Sra. | C6: =Convidados!F13+Convidados!G13 -> 2
A7: 6 | B7: =Convidados!B14 -> 0 | C7: =Convidados!F14+Convidados!G14 -> 0
A8: 7 | B8: =Convidados!B15 -> 0 | C8: =Convidados!F15+Convidados!G15 -> 0
A9: 8 | B9: =Convidados!B16 -> 0 | C9: =Convidados!F16+Convidados!G16 -> 0
A10: 9 | B10: =Convidados!B17 -> 0 | C10: =Convidados!F17+Convidados!G17 -> 0
A11: 10 | B11: =Convidados!B18 -> 0 | C11: =Convidados!F18+Convidados!G18 -> 0
A12: 11 | B12: =Convidados!B19 -> 0 | C12: =Convidados!F19+Convidados!G19 -> 0
A13: 12 | B13: =Convidados!B20 -> 0 | C13: =Convidados!F20+Convidados!G20 -> 0
... A31: 30 | B31: =Convidados!B38 -> 0 | C31: =Convidados!F38+Convidados!G38 -> 0
A32: 31 | B32: =Convidados!B501 -> 0 | C32: =Convidados!F39+Convidados!G39 -> 0
A33: 32 | B33: =Convidados!B502 -> 0 | C33: =Convidados!F40+Convidados!G40 -> 0
A34: 33 | B34: =Convidados!B503 -> 0 | C34: =Convidados!F41+Convidados!G41 -> 0
A35: 34 | B35: =Convidados!B504 -> 0 | C35: =Convidados!F42+Convidados!G42 -> 0
A36: 35 | B36: =Convidados!B505 -> 0 | C36: =Convidados!F43+Convidados!G43 -> 0
A37: 36 | B37: =Convidados!B506 -> 0 | C37: =Convidados!F44+Convidados!G44 -> 0
A38: 37 | B38: =Convidados!B507 -> 0 | C38: =Convidados!F45+Convidados!G45 -> 0
A39: 38 | B39: =Convidados!B508 -> 0 | C39: =Convidados!F46+Convidados!G46 -> 0
A40: 39 | B40: =Convidados!B509 -> 0 | C40: =Convidados!F47+Convidados!G47 -> 0
A41: 40 | B41: =Convidados!B510 -> 0 | C41: =Convidados!F48+Convidados!G48 -> 0
A42: 41 | B42: =Convidados!B511 -> 0 | C42: =Convidados!F49+Convidados!G49 -> 0
A43: 42 | B43: =Convidados!B512 -> 0 | C43: =Convidados!F50+Convidados!G50 -> 0
... A500: 499 | B500: =Convidados!B969 -> 0 | C500: =Convidados!F507+Convidados!G507 -> 0
A501: =+A156+1 -> 156 | B501: =Convidados!B626 -> 0
A502: =+A501+1 -> 157 | B502: =Convidados!B627 -> 0
A503: =+A502+1 -> 158 | B503: =Convidados!B628 -> 0
A504: =+A503+1 -> 159 | B504: =Convidados!B629 -> 0
A505: =+A504+1 -> 160 | B505: =Convidados!B630 -> 0
A506: =+A505+1 -> 161 | B506: =Convidados!B631 -> 0
A507: =+A506+1 -> 162 | B507: =Convidados!B632 -> 0
A508: =+A507+1 -> 163 | B508: =Convidados!B633 -> 0
A509: =+A508+1 -> 164 | B509: =Convidados!B634 -> 0
A510: =+A509+1 -> 165 | B510: =Convidados!B635 -> 0
A511: =+A510+1 -> 166 | B511: =Convidados!B636 -> 0
A512: =+A511+1 -> 167 | B512: =Convidados!B637 -> 0
A513: =+A512+1 -> 168 | B513: =Convidados!B638 -> 0
...

Sheet Plan3
